BEGIN:VCALENDAR
VERSION:2.0
METHOD:PUBLISH
PRODID:-//Accessible Web Design//My Calendar//http://www.joedolson.com//v//EN';
BEGIN:VEVENT
UID:10-11
LOCATION:Capitol Steps   Olympia
SUMMARY:Membership Meeting
DTSTAMP:20110427T153000
ORGANIZER;CN=UAW 4121:MAILTO:phil.harding@uaw4121.org
DTSTART:20110427T153000
DTEND:20110427T163000
CATEGORIES:Meetings
URL;VALUE=URI:https://www.uaw4121.org/?p=1771
DESCRIPTION;ENCODING=QUOTED-PRINTABLE: https://www.uaw4121.org/?p=1771
END:VEVENT
END:VCALENDAR