BEGIN:VCALENDAR
VERSION:2.0
METHOD:PUBLISH
PRODID:-//Accessible Web Design//My Calendar//http://www.joedolson.com//v//EN';
BEGIN:VEVENT
UID:16-18
LOCATION:Capitol Steps   Olympia
SUMMARY:Contract Ratification Vote
DTSTAMP:20110606T160000
ORGANIZER;CN=UAW 4121:MAILTO:phil.harding@uaw4121.org
DTSTART:20110606T160000
DTEND:20110606T200000
CATEGORIES:Bargaining
URL;VALUE=URI:https://www.uaw4121.org/?p=1958
DESCRIPTION;ENCODING=QUOTED-PRINTABLE: https://www.uaw4121.org/?p=1958
END:VEVENT
END:VCALENDAR