BEGIN:VCALENDAR
VERSION:2.0
METHOD:PUBLISH
PRODID:-//Accessible Web Design//My Calendar//http://www.joedolson.com//v//EN';
BEGIN:VEVENT
UID:19-21
LOCATION:Capitol Steps   Olympia
SUMMARY:Pride Parade
DTSTAMP:20110626T110000
ORGANIZER;CN=UAW 4121:MAILTO:phil.harding@uaw4121.org
DTSTART:20110626T110000
DTEND:20110626T120000
CATEGORIES:Take Action
URL;VALUE=URI:https://www.uaw4121.org/?p=2058
DESCRIPTION;ENCODING=QUOTED-PRINTABLE: https://www.uaw4121.org/?p=2058
END:VEVENT
END:VCALENDAR