BEGIN:VCALENDAR
VERSION:2.0
METHOD:PUBLISH
PRODID:-//Accessible Web Design//My Calendar//http://www.joedolson.com//v//EN';
BEGIN:VEVENT
UID:2-3
LOCATION:Capitol Steps   Olympia
SUMMARY:Town Hall Meetings
DTSTAMP:20110312T000000
ORGANIZER;CN={host}:MAILTO:{host_email}
DTSTART:20110312T000000
DTEND:20110312T000000
CATEGORIES:Take Action
URL;VALUE=URI:https://www.uaw4121.org/?p=1436
DESCRIPTION;ENCODING=QUOTED-PRINTABLE: https://www.uaw4121.org/?p=1436
END:VEVENT
END:VCALENDAR