BEGIN:VCALENDAR
VERSION:2.0
METHOD:PUBLISH
PRODID:-//Accessible Web Design//My Calendar//http://www.joedolson.com//v//EN';
BEGIN:VEVENT
UID:20-22
LOCATION:Capitol Steps   Olympia
SUMMARY:Rep. Gutierrez: Immigrant Rights Town Hall
DTSTAMP:20110626T133000
ORGANIZER;CN=UAW 4121:MAILTO:phil.harding@uaw4121.org
DTSTART:20110626T133000
DTEND:20110626T150000
CATEGORIES:Take Action
URL;VALUE=URI:https://www.uaw4121.org/?p=2038
DESCRIPTION;ENCODING=QUOTED-PRINTABLE: https://www.uaw4121.org/?p=2038
END:VEVENT
END:VCALENDAR