BEGIN:VCALENDAR
VERSION:2.0
METHOD:PUBLISH
PRODID:-//Accessible Web Design//My Calendar//http://www.joedolson.com//v//EN';
BEGIN:VEVENT
UID:21-23
LOCATION:Capitol Steps   Olympia
SUMMARY:Executive Board Meeting
DTSTAMP:20110629T101500
ORGANIZER;CN=UAW 4121:MAILTO:phil.harding@uaw4121.org
DTSTART:20110629T101500
DTEND:20110629T111500
CATEGORIES:Meetings
URL;VALUE=URI:https://www.uaw4121.org/?p=2118
DESCRIPTION;ENCODING=QUOTED-PRINTABLE: https://www.uaw4121.org/?p=2118
END:VEVENT
END:VCALENDAR