BEGIN:VCALENDAR
VERSION:2.0
METHOD:PUBLISH
PRODID:-//Accessible Web Design//My Calendar//http://www.joedolson.com//v//EN';
BEGIN:VEVENT
UID:24-26
LOCATION:Capitol Steps   Olympia
SUMMARY:Save Public Transit
DTSTAMP:20110721T170000
ORGANIZER;CN=UAW 4121:MAILTO:phil.harding@uaw4121.org
DTSTART:20110721T170000
DTEND:20110721T180000
CATEGORIES:Take Action
URL;VALUE=URI:https://www.uaw4121.org/?p=2149
DESCRIPTION;ENCODING=QUOTED-PRINTABLE: https://www.uaw4121.org/?p=2149
END:VEVENT
END:VCALENDAR