BEGIN:VCALENDAR
VERSION:2.0
METHOD:PUBLISH
PRODID:-//Accessible Web Design//My Calendar//http://www.joedolson.com//v//EN';
BEGIN:VEVENT
UID:25-27
LOCATION:King County Courthouse - 10th Floor 516 Third Ave  Seattle WA 98104
SUMMARY:Save Public Transit!
DTSTAMP:20110725T120000
ORGANIZER;CN=UAW 4121:MAILTO:phil.harding@uaw4121.org
DTSTART:20110725T120000
DTEND:20110725T170000
CATEGORIES:Bargaining
URL;VALUE=URI:https://www.uaw4121.org/?p=2167
DESCRIPTION;ENCODING=QUOTED-PRINTABLE:Fill the County Chambers to Save Public Transit. (RSVP&nbsp;HERE https://www.uaw4121.org/?p=2167
END:VEVENT
END:VCALENDAR