BEGIN:VCALENDAR
VERSION:2.0
METHOD:PUBLISH
PRODID:-//Accessible Web Design//My Calendar//http://www.joedolson.com//v//EN';
BEGIN:VEVENT
UID:26-28
LOCATION:Condon Hall 511A 1100 NE Campus Parkway  Seattle WA 98105
SUMMARY:Trans Equity Working Group Meeting
DTSTAMP:20151019T170000
ORGANIZER;CN=webmaster:MAILTO:uaw4121@uaw4121.org
DTSTART:20151019T170000
DTEND:20151019T183000
CATEGORIES:Bargaining
URL;VALUE=URI:
DESCRIPTION;ENCODING=QUOTED-PRINTABLE: 
END:VEVENT
END:VCALENDAR