BEGIN:VCALENDAR
VERSION:2.0
METHOD:PUBLISH
PRODID:-//Accessible Web Design//My Calendar//http://www.joedolson.com//v//EN';
BEGIN:VEVENT
UID:3-4
LOCATION:UAW 4121 Office 4500 9th Ave NE, STE. 300  Seattle WA 98105
SUMMARY:Mobilization Meeting
DTSTAMP:20110318T140000
ORGANIZER;CN={host}:MAILTO:{host_email}
DTSTART:20110318T140000
DTEND:20110318T150000
CATEGORIES:Take Action
URL;VALUE=URI:https://www.uaw4121.org/?category_name=take-action
DESCRIPTION;ENCODING=QUOTED-PRINTABLE:During the first week of April, actions are planned in Olympia and elsewhere to fight against attacks on workers and immigrants and to urge investment in jobs and a fair economy. We're holding a mobilization meeting this Friday, March 18th at 2:00 pm in the UAW 4121 office (4500 9th Ave NE, STE. 300) to discuss our Local's involvement in these actions. Please contact us if you can attend. https://www.uaw4121.org/?category_name=take-action
END:VEVENT
END:VCALENDAR