BEGIN:VCALENDAR
VERSION:2.0
METHOD:PUBLISH
PRODID:-//Accessible Web Design//My Calendar//http://www.joedolson.com//v//EN';
BEGIN:VEVENT
UID:4-5
LOCATION:SMI 205
SUMMARY:Membership Meeting
DTSTAMP:20110330T163000
ORGANIZER;CN={host}:MAILTO:{host_email}
DTSTART:20110330T163000
DTEND:20110330T173000
CATEGORIES:Meetings
URL;VALUE=URI:https://www.uaw4121.org/?p=1618
DESCRIPTION;ENCODING=QUOTED-PRINTABLE: https://www.uaw4121.org/?p=1618
END:VEVENT
END:VCALENDAR