BEGIN:VCALENDAR
VERSION:2.0
METHOD:PUBLISH
PRODID:-//Accessible Web Design//My Calendar//http://www.joedolson.com//v//EN';
BEGIN:VEVENT
UID:6-7
LOCATION:Capitol Steps   Olympia
SUMMARY:Stand Up for Quality &amp; Access at UW: April 6th
DTSTAMP:20110406T123000
ORGANIZER;CN={host}:MAILTO:{host_email}
DTSTART:20110406T123000
DTEND:20110406T133000
CATEGORIES:Take Action
URL;VALUE=URI:https://www.uaw4121.org/?p=1647
DESCRIPTION;ENCODING=QUOTED-PRINTABLE: https://www.uaw4121.org/?p=1647
END:VEVENT
END:VCALENDAR