BEGIN:VCALENDAR
VERSION:2.0
METHOD:PUBLISH
PRODID:-//Accessible Web Design//My Calendar//http://www.joedolson.com//v//EN';
BEGIN:VEVENT
UID:7-8
LOCATION:Capitol Steps   Olympia
SUMMARY:Week of Action: April 2-8
DTSTAMP:20110408T000000
ORGANIZER;CN={host}:MAILTO:{host_email}
DTSTART:20110408T000000
DTEND:20110408T000000
CATEGORIES:Take Action
URL;VALUE=URI:https://www.uaw4121.org/?p=1679
DESCRIPTION;ENCODING=QUOTED-PRINTABLE: https://www.uaw4121.org/?p=1679
END:VEVENT
END:VCALENDAR