BEGIN:VCALENDAR
VERSION:2.0
METHOD:PUBLISH
PRODID:-//Accessible Web Design//My Calendar//http://www.joedolson.com//v//EN';
BEGIN:VEVENT
UID:12-13
LOCATION:Capitol Steps   Olympia
SUMMARY:May Day March
DTSTAMP:20110501T010000
ORGANIZER;CN=UAW 4121:MAILTO:phil.harding@uaw4121.org
DTSTART:20110501T010000
DTEND:20110501T020000
CATEGORIES:Take Action
URL;VALUE=URI:https://www.uaw4121.org/?p=1837
DESCRIPTION;ENCODING=QUOTED-PRINTABLE: https://www.uaw4121.org/?p=1837
END:VEVENT
END:VCALENDAR