BEGIN:VCALENDAR
VERSION:2.0
METHOD:PUBLISH
PRODID:-//Accessible Web Design//My Calendar//http://www.joedolson.com//v//EN';
BEGIN:VEVENT
UID:15-17
LOCATION:Capitol Steps   Olympia
SUMMARY:Membership Meeting
DTSTAMP:20110609T150000
ORGANIZER;CN={host}:MAILTO:{host_email}
DTSTART:20110609T150000
DTEND:20110609T160000
CATEGORIES:Meetings
URL;VALUE=URI:https://www.uaw4121.org/?p=1949
DESCRIPTION;ENCODING=QUOTED-PRINTABLE: https://www.uaw4121.org/?p=1949
END:VEVENT
END:VCALENDAR