BEGIN:VCALENDAR
VERSION:2.0
METHOD:PUBLISH
PRODID:-//Accessible Web Design//My Calendar//http://www.joedolson.com//v//EN';
BEGIN:VEVENT
UID:22-24
LOCATION:Capitol Steps   Olympia
SUMMARY:Executive Board Meeting
DTSTAMP:20110727T160000
ORGANIZER;CN=UAW 4121:MAILTO:phil.harding@uaw4121.org
DTSTART:20110727T160000
DTEND:20110727T170000
CATEGORIES:Meetings
URL;VALUE=URI:https://www.uaw4121.org/?p=2146
DESCRIPTION;ENCODING=QUOTED-PRINTABLE: https://www.uaw4121.org/?p=2146
END:VEVENT
END:VCALENDAR