BEGIN:VCALENDAR
VERSION:2.0
METHOD:PUBLISH
PRODID:-//Accessible Web Design//My Calendar//http://www.joedolson.com//v//EN';
BEGIN:VEVENT
UID:8-9
LOCATION:Capitol Steps   Olympia
SUMMARY:Labor Rally in Olympia!
DTSTAMP:20110408T120000
ORGANIZER;CN={host}:MAILTO:{host_email}
DTSTART:20110408T120000
DTEND:20110408T130000
CATEGORIES:Take Action
URL;VALUE=URI:https://www.uaw4121.org/?p=1733
DESCRIPTION;ENCODING=QUOTED-PRINTABLE: https://www.uaw4121.org/?p=1733
END:VEVENT
END:VCALENDAR